BEGIN:VCALENDAR
VERSION:2.0
PRODID:-//LNS-Turnierservice / equi-event.com - ECPv6.14.2//NONSGML v1.0//EN
CALSCALE:GREGORIAN
METHOD:PUBLISH
X-ORIGINAL-URL:https://lns-turnierservice.de
X-WR-CALDESC:Veranstaltungen für LNS-Turnierservice / equi-event.com
REFRESH-INTERVAL;VALUE=DURATION:PT1H
X-Robots-Tag:noindex
X-PUBLISHED-TTL:PT1H
BEGIN:VTIMEZONE
TZID:Europe/Berlin
BEGIN:DAYLIGHT
TZOFFSETFROM:+0100
TZOFFSETTO:+0200
TZNAME:CEST
DTSTART:20260329T010000
END:DAYLIGHT
BEGIN:STANDARD
TZOFFSETFROM:+0200
TZOFFSETTO:+0100
TZNAME:CET
DTSTART:20261025T010000
END:STANDARD
END:VTIMEZONE
BEGIN:VEVENT
DTSTART;VALUE=DATE:20260430
DTEND;VALUE=DATE:20260504
DTSTAMP:20260424T162738
CREATED:20250920T115955Z
LAST-MODIFIED:20250920T115955Z
UID:7366-1777507200-1777852799@lns-turnierservice.de
SUMMARY:Mariakalnok/HUN - Internationales Dressurfestival
DESCRIPTION:
URL:https://lns-turnierservice.de/event/mariakalnok-hun-internationales-dressurfestival-2026/
LOCATION:Dressurzentrum Kft.\, Ádám Zoltán utca 4.\, Máriakálnok\, 9231\, Hungary
CATEGORIES:Turnier
ATTACH;FMTTYPE=image/png:https://lns-turnierservice.de/wp-content/uploads/2024/10/logo-200x200-1.png
ORGANIZER;CN="Dressurzentrum Kft.":MAILTO:dressurzentrumkft@gmail.com
END:VEVENT
END:VCALENDAR