BEGIN:VCALENDAR
VERSION:2.0
PRODID:-//LNS-Turnierservice / equi-event.com - ECPv6.14.2//NONSGML v1.0//EN
CALSCALE:GREGORIAN
METHOD:PUBLISH
X-ORIGINAL-URL:https://lns-turnierservice.de
X-WR-CALDESC:Veranstaltungen für LNS-Turnierservice / equi-event.com
REFRESH-INTERVAL;VALUE=DURATION:PT1H
X-Robots-Tag:noindex
X-PUBLISHED-TTL:PT1H
BEGIN:VTIMEZONE
TZID:Europe/Berlin
BEGIN:DAYLIGHT
TZOFFSETFROM:+0100
TZOFFSETTO:+0200
TZNAME:CEST
DTSTART:20260329T010000
END:DAYLIGHT
BEGIN:STANDARD
TZOFFSETFROM:+0200
TZOFFSETTO:+0100
TZNAME:CET
DTSTART:20261025T010000
END:STANDARD
END:VTIMEZONE
BEGIN:VEVENT
DTSTART;VALUE=DATE:20260305
DTEND;VALUE=DATE:20260309
DTSTAMP:20260425T010154
CREATED:20250920T113733Z
LAST-MODIFIED:20250920T120335Z
UID:7354-1772668800-1773014399@lns-turnierservice.de
SUMMARY:7. Gestüt Seehof - Hallen-Springreitertage
DESCRIPTION:
URL:https://lns-turnierservice.de/event/6-gestuet-seehof-hallen-springreitertage-2/
LOCATION:Gestüt Seehof\, Gestüt Seehof\, Kaldenkirchen\, Nordrhein-Westfalen\, 41334\, Germany
CATEGORIES:Turnier
ATTACH;FMTTYPE=image/png:https://lns-turnierservice.de/wp-content/uploads/2024/10/RV-Kaldenkirchen-e1758369806625.png
ORGANIZER;CN="Reiterverein Kaldenkirchen 1929 e.V.":MAILTO:broich@gestuet-seehof.de
END:VEVENT
END:VCALENDAR